BEGIN:VCALENDAR
VERSION:2.0
PRODID:-//eventon.com NONSGML v1.0//EN
BEGIN:VEVENT
UID:69ea822a45f05
DTSTAMP:20260424T063346
DTSTART:20200708T080000Z
DTEND:20200708T100000Z
TZID:Australia/Brisbane
LOCATION:Zoom 
SUMMARY:Incision UQ Presents: Surgical Pathways Evening
DESCRIPTION: The Surgical Pathways Evening IS BACK!!! Interested in a career in surgery? The Surgical Pathways Evening is the event for you! As Incision UQ&#8217;s second Academic Seminar for 2020\,  the Surgical Pathways Evening is an in-depth talk given by not one\,  but two Surgical Registrars\,  about preparing for and gaining[..]\nhttps://uqms.org/events/incision-uq-presents-surgical-pathways-evening/
URL:https://uqms.org/events/incision-uq-presents-surgical-pathways-evening/
END:VEVENT
END:VCALENDAR