BEGIN:VCALENDAR
VERSION:2.0
PRODID:-//eventon.com NONSGML v1.0//EN
BEGIN:VEVENT
UID:69ea836c7fedd
DTSTAMP:20260424T063908
DTSTART:20200725T083000Z
DTEND:20200725T120000Z
TZID:Australia/Brisbane
LOCATION:The Station Brisbane 44 Barry Parade
SUMMARY:UQMind Presents: Paint & Sip
DESCRIPTION: UQMind is excited to present our first ever PAINT & SIP event! 🎨🥂🥰 Join us for a delightful evening of painting to a calming Bob Ross tutorial and sipping champagne/wine/whatever drink you fancy. After the year we&#8217;ve had so far\,  UQMind thinks that we all deserve an enjoyable night out[..]\nhttps://uqms.org/events/uqmind-paint-sip/
URL:https://uqms.org/events/uqmind-paint-sip/
END:VEVENT
END:VCALENDAR